Workbook
Name balance_sheet?p_GOOGL: 'Google 2018 Balance Sheet'!$A$1:$E$159
Name cash_flow?p_GOOGL: '2018 Cash Flow'!$A$3:$E$146
Name financials?p_GOOGL: 'Google 2018 Income Statement'!$A$1:$E$152

Sheet Google 2015 Balance Sheet
A1: Google Inc.
A2: Balance Sheet
A3: All numbers in thousands
A4: Period Ending | B4: 42369
A5: Current Assets
A6: Cash And Cash Equivalents | B6: 15409000
A7: Short Term Investments | B7: 56517000
A8: Net Receivables | B8: 13459000
A9: Inventory | B9: 491000
A10: Other Current Assets | B10: 1590000
A11: Total Current Assets | B11: 90114000
A12: Long Term Investments | B12: 5183000
A13: Property Plant and Equipment | B13: 29016000
A14: Goodwill | B14: 15869000
A15: Intangible Assets | B15: 3847000
A16: Accumulated Amortization | B16: -
A17: Other Assets | B17: 3432000
A18: Deferred Long Term Asset Charges | B18: 251000
A19: Total Assets | B19: 147461000
A21: Current Liabilities
A22: Accounts Payable | B22: 1931000
A23: Short/Current Long Term Debt | B23: 1000000
A24: Other Current Liabilities | B24: 4327000
A25: Total Current Liabilities | B25: 19310000
A26: Long Term Debt | B26: 1995000
A27: Other Liabilities | B27: 5825000
A28: Deferred Long Term Liability Charges | B28: -
A29: Minority Interest | B29: -
A30: Negative Goodwill | B30: -
A31: Total Liabilities | B31: 27130000
A33: Stockholders' Equity
A34: Misc. Stocks Options Warrants | B34: -
A35: Redeemable Preferred Stock | B35: -
A36: Preferred Stock | B36: -
A37: Common Stock | B37: 32982000
A38: Retained Earnings | B38: 89223000
A39: Treasury Stock | B39: -1874000
A40: Capital Surplus | B40: -
A41: Other Stockholder Equity | B41: -1874000
A42: Total Stockholder Equity | B42: 120331000
...

Sheet Google 2016 Balance Sheet 
A2: Google Inc.
A3: Balance Sheet
A4: All numbers in thousands
A5: Period Ending | B5: 42735
A6: Current Assets
A7: Cash And Cash Equivalents | B7: 12918000
A8: Short Term Investments | B8: 73415000
A9: Net Receivables | B9: 15632000
A10: Inventory | B10: 268000
A11: Other Current Assets | B11: 3175000
A12: Total Current Assets | B12: 105408000
A13: Long Term Investments | B13: 5878000
A14: Property Plant and Equipment | B14: 34234000
A15: Goodwill | B15: 16468000
A16: Intangible Assets | B16: 3307000
A17: Accumulated Amortization | B17: -
A18: Other Assets | B18: 2202000
A19: Deferred Long Term Asset Charges | B19: 383000
A20: Total Assets | B20: 167497000
A22: Current Liabilities
A23: Accounts Payable | B23: 2041000
A24: Short/Current Long Term Debt | B24: -
A25: Other Current Liabilities | B25: 5851000
A26: Total Current Liabilities | B26: 16756000
A27: Long Term Debt | B27: 3935000
A28: Other Liabilities | B28: 7770000
A29: Deferred Long Term Liability Charges | B29: -
A30: Minority Interest | B30: -
A31: Negative Goodwill | B31: -
A32: Total Liabilities | B32: 28461000
A34: Stockholders' Equity
A35: Misc. Stocks Options Warrants | B35: -
A36: Redeemable Preferred Stock | B36: -
A37: Preferred Stock | B37: -
A38: Common Stock | B38: 36307000
A39: Retained Earnings | B39: 105131000
A40: Treasury Stock | B40: -2402000
A41: Capital Surplus | B41: -
A42: Other Stockholder Equity | B42: -2402000
A43: Total Stockholder Equity | B43: 139036000
...

Sheet Google 2017 Balance Sheet 
A2: Google Inc.
A3: Balance Sheet
A4: All numbers in thousands
A5: Period Ending | B5: 43100
A6: Current Assets
A7: Cash And Cash Equivalents | B7: 10715000
A8: Short Term Investments | B8: 91156000
A9: Net Receivables | B9: 18705000
A10: Inventory | B10: 749000
A11: Other Current Assets | B11: 2983000
A12: Total Current Assets | B12: 124308000
A13: Long Term Investments | B13: 7813000
A14: Property Plant and Equipment | B14: 42383000
A15: Goodwill | B15: 16747000
A16: Intangible Assets | B16: 2692000
A17: Accumulated Amortization | B17: -
A18: Other Assets | B18: 3352000
A19: Deferred Long Term Asset Charges | B19: 680000
A20: Total Assets | B20: 197295000
A22: Current Liabilities
A23: Accounts Payable | B23: 3137000
A24: Short/Current Long Term Debt | B24: -
A25: Other Current Liabilities | B25: 10651000
A26: Total Current Liabilities | B26: 24183000
A27: Long Term Debt | B27: 3943000
A28: Other Liabilities | B28: 16641000
A29: Deferred Long Term Liability Charges | B29: -
A30: Minority Interest | B30: -
A31: Negative Goodwill | B31: -
A32: Total Liabilities | B32: 44793000
A34: Stockholders' Equity
A35: Misc. Stocks Options Warrants | B35: -
A36: Redeemable Preferred Stock | B36: -
A37: Preferred Stock | B37: -
A38: Common Stock | B38: 40247000
A39: Retained Earnings | B39: 113247000
A40: Treasury Stock | B40: -992000
A41: Capital Surplus | B41: -
A42: Other Stockholder Equity | B42: -992000
A43: Total Stockholder Equity | B43: 152502000
...

Sheet Google 2018 Balance Sheet
A2: Google Inc. | H2: Ratio | I2: Formula | J2: 2018 | K2: 2017 | L2: 2016 | M2: 2015
A3: Balance Sheet | H3: Current Ratio | I3: Curent Assets /Current Liabilities | J3: ='Google 2018 Balance Sheet'!B12/'Google 2018 Balance Sheet'!B26 -> 3.9190064 | K3: ='Google 2018 Balance Sheet'!C12/'Google 2018 Balance Sheet'!C26 -> 5.1403052 | L3: ='Google 2018 Balance Sheet'!D12/'Google 2018 Balance Sheet'!D26 -> 6.2907615 | M3: ='Google 2018 Balance Sheet'!E12/'Google 2018 Balance Sheet'!E26 -> 4.6667012
A4: All numbers in thousands | H4: Debt/equity Ratio | I4: Total liabilities /Shareholder Equity | J4: ='Google 2018 Balance Sheet'!B32/'Google 2018 Balance Sheet'!B43 -> 0.31055915 | K4: ='Google 2018 Balance Sheet'!C32/'Google 2018 Balance Sheet'!C43 -> 0.29372074 | L4: ='Google 2018 Balance Sheet'!D32/'Google 2018 Balance Sheet'!D43 -> 0.20470238 | M4: ='Google 2018 Balance Sheet'!E32/'Google 2018 Balance Sheet'!E43 -> 0.22546144
A5: Period Ending | B5: 43465 | C5: 43100 | D5: 42735 | E5: 42369 | H5: Free Cash flow
A6: Current Assets | H6: 1. Operating Cash Flow | I6: After tax profit-(Current Assets-Current Liabilities) + Depreciation + Armotization | J6: ='Google 2018 Income Statement'!B26-('Google 2018 Balance Sheet'!B12-'Google 2018 Balance Sheet'!B26) -> -70320000 | K6: ='Goofle 2017 Income Statement '!B26-('Google 2018 Balance Sheet'!C12-'Google 2018 Balance Sheet'!C26) -> -87463000 | L6: ='Google 2016 Income Statement '!B26-('Google 2018 Balance Sheet'!D12-'Google 2018 Balance Sheet'!D26) -> -69174000 | M6: ='Google 2015 Income Statement'!B26-('Google 2018 Balance Sheet'!E12-'Google 2018 Balance Sheet'!E26) -> -54456000
A7: Cash And Cash Equivalents | B7: 16701000 | C7: 10715000 | D7: 12918000 | E7: 15409000 | H7: 2. Free Cash Flow | I7: Operating cash flow-fixed asset puchases | J7: =J6-('2018 Cash Flow'!B18) -> -45181000 | K7: =K6-('2018 Cash Flow'!C18) -> -74279000 | L7: =L6-('2018 Cash Flow'!D18) -> -58962000 | M7: =M6-('2018 Cash Flow'!E18) -> -44506000
A8: Short Term Investments | B8: 92439000 | C8: 91156000 | D8: 73415000 | E8: 56517000 | H8: Earnings Per Share | I8: (Net income-preferred Dividends)/Shares Outanding | J8: =('Google 2018 Income Statement'!B37)/'Google 2018 Balance Sheet'!B38 -> 0.6822793 | K8: =('Goofle 2017 Income Statement '!B37)/'Google 2018 Balance Sheet'!C38 -> 0.3146073 | L8: =('Google 2016 Income Statement '!B37)/'Google 2018 Balance Sheet'!D38 -> 0.53648057 | M8: =('Google 2015 Income Statement'!B37)/'Google 2018 Balance Sheet'!E38 -> 0.4956643
A9: Net Receivables | B9: 21193000 | C9: 18705000 | D9: 15632000 | E9: 13459000 | H9: Price/Earnings Ratio | I9: Current Share Price/Earning per share | J9: ='Stock Prices'!H10/'Google 2018 Balance Sheet'!J8 -> 1531.5722 | K9: ='Stock Prices'!H9/'Google 2018 Balance Sheet'!K8 -> 3348.3012 | L9: ='Stock Prices'!H8/'Google 2018 Balance Sheet'!L8 -> 1477.1271 | M9: ='Stock Prices'!H7/'Google 2018 Balance Sheet'!M8 -> 1569.6309
A10: Inventory | B10: 1107000 | C10: 749000 | D10: 268000 | E10: 491000 | H10: Return on Equity | I10: Net Income/Shareholder Equity | J10: ='Google 2018 Income Statement'!B26/'Google 2018 Balance Sheet'!B43 -> 0.17303578 | K10: ='Goofle 2017 Income Statement '!B26/'Google 2018 Balance Sheet'!C43 -> 0.083028419 | L10: ='Google 2016 Income Statement '!B26/'Google 2018 Balance Sheet'!D43 -> 0.14009321 | M10: ='Google 2015 Income Statement'!B26/'Google 2018 Balance Sheet'!E43 -> 0.13585859
A11: Other Current Assets | B11: 4236000 | C11: 2983000 | D11: 3175000 | E11: 1590000 | H11: Net Profit Margin | I11: Net Income/Revenue | J11: ='Google 2018 Income Statement'!B37/'Google 2018 Income Statement'!B7 -> 0.22464716 | K11: ='Goofle 2017 Income Statement '!B37/'Goofle 2017 Income Statement '!B7 -> 0.11422128 | L11: ='Google 2016 Income Statement '!B37/'Google 2016 Income Statement '!B7 -> 0.21577012 | M11: ='Google 2015 Income Statement'!B37/'Google 2015 Income Statement'!B7 -> 0.21800531
A12: Total Current Assets | B12: 135676000 | C12: 124308000 | D12: 105408000 | E12: 90114000
A13: Long Term Investments | B13: 13859000 | C13: 7813000 | D13: 5878000 | E13: 5183000
A14: Property Plant and Equipment | B14: 59719000 | C14: 42383000 | D14: 34234000 | E14: 29016000
A15: Goodwill | B15: 17888000 | C15: 16747000 | D15: 16468000 | E15: 15869000
A16: Intangible Assets | B16: 2220000 | C16: 2692000 | D16: 3307000 | E16: 3847000
A17: Accumulated Amortization | B17: - | C17: - | D17: - | E17: -
A18: Other Assets | B18: 3430000 | C18: 3352000 | D18: 2202000 | E18: 3432000
A19: Deferred Long Term Asset Charges | B19: 737000 | C19: 680000 | D19: 383000 | E19: 251000
A20: Total Assets | B20: 232792000 | C20: 197295000 | D20: 167497000 | E20: 147461000
A22: Current Liabilities
A23: Accounts Payable | B23: 4378000 | C23: 3137000 | D23: 2041000 | E23: 1931000
A24: Short/Current Long Term Debt | B24: - | C24: - | D24: - | E24: 1000000
A25: Other Current Liabilities | B25: 16009000 | C25: 10651000 | D25: 5851000 | E25: 4327000
A26: Total Current Liabilities | B26: 34620000 | C26: 24183000 | D26: 16756000 | E26: 19310000
A27: Long Term Debt | B27: 3950000 | C27: 3943000 | D27: 3935000 | E27: 1995000
A28: Other Liabilities | B28: 16532000 | C28: 16641000 | D28: 7770000 | E28: 5825000
A29: Deferred Long Term Liability Charges | B29: - | C29: - | D29: - | E29: -
A30: Minority Interest | B30: - | C30: - | D30: - | E30: -
A31: Negative Goodwill | B31: - | C31: - | D31: - | E31: -
A32: Total Liabilities | B32: 55164000 | C32: 44793000 | D32: 28461000 | E32: 27130000
A34: Stockholders' Equity
A35: Misc. Stocks Options Warrants | B35: - | C35: - | D35: - | E35: -
A36: Redeemable Preferred Stock | B36: - | C36: - | D36: - | E36: -
A37: Preferred Stock | B37: - | C37: - | D37: - | E37: -
A38: Common Stock | B38: 45049000 | C38: 40247000 | D38: 36307000 | E38: 32982000
A39: Retained Earnings | B39: 134885000 | C39: 113247000 | D39: 105131000 | E39: 89223000
A40: Treasury Stock | B40: -2306000 | C40: -992000 | D40: -2402000 | E40: -1874000
A41: Capital Surplus | B41: - | C41: - | D41: - | E41: -
A42: Other Stockholder Equity | B42: -2306000 | C42: -992000 | D42: -2402000 | E42: -1874000
A43: Total Stockholder Equity | B43: 177628000 | C43: 152502000 | D43: 139036000 | E43: 120331000
...

Sheet Google 2015 Income Statement
A2: Google Inc.
A3: Income Statement
A4: All numbers in thousands
A5: Period Ending | B5: 42369
A6: Revenue
A7: Total Revenue | B7: 74989000
A8: Cost of Revenue | B8: 28164000
A9: Gross Profit | B9: 46825000
A11: Operating Expenses
A12: Research Development | B12: 12282000
A13: Selling General and Administrative | B13: 15183000
A14: Non Recurring | B14: -
A15: Others | B15: -
A16: Total Operating Expenses | B16: 55629000
A17: Operating Income or Loss | B17: 19360000
A19: Income from Continuing Operations
A20: Total Other Income/Expenses Net | B20: 291000
A21: Earnings Before Interest and Taxes | B21: 19360000
A22: Interest Expense | B22: -104000
A23: Income Before Tax | B23: 19651000
A24: Income Tax Expense | B24: 3303000
A25: Minority Interest | B25: -
A26: Net Income From Continuing Ops | B26: 16348000
A28: Non-recurring Events
A29: Discontinued Operations | B29: -
A30: Extraordinary Items | B30: -
A31: Effect Of Accounting Changes | B31: -
A32: Other Items | B32: -
A34: Net Income
A35: Net Income | B35: 16348000
A36: Preferred Stock And Other Adjustments | B36: -
A37: Net Income Applicable To Common Shares | B37: 16348000

Sheet Google 2018 Income Statement
A2: Google Inc.
A3: Income Statement
A4: All numbers in thousands
A5: Period Ending | B5: 43465
A6: Revenue
A7: Total Revenue | B7: 136819000
A8: Cost of Revenue | B8: 59549000
A9: Gross Profit | B9: 77270000
A11: Operating Expenses
A12: Research Development | B12: 21419000
A13: Selling General and Administrative | B13: 24459000
A14: Non Recurring | B14: -
A15: Others | B15: -
A16: Total Operating Expenses | B16: 105427000
A17: Operating Income or Loss | B17: 31392000
A19: Income from Continuing Operations
A20: Total Other Income/Expenses Net | B20: 3521000
A21: Earnings Before Interest and Taxes | B21: 31392000
A22: Interest Expense | B22: -114000
A23: Income Before Tax | B23: 34913000
A24: Income Tax Expense | B24: 4177000
A25: Minority Interest | B25: -
A26: Net Income From Continuing Ops | B26: 30736000
A28: Non-recurring Events
A29: Discontinued Operations | B29: -
A30: Extraordinary Items | B30: -
A31: Effect Of Accounting Changes | B31: -
A32: Other Items | B32: -
A34: Net Income
A35: Net Income | B35: 30736000
A36: Preferred Stock And Other Adjustments | B36: -
A37: Net Income Applicable To Common Shares | B37: 30736000
A40: Reference
A41: https://finance.yahoo.com/quote/GOOGL/financials?p=GOOGL
B137: Last Price | C137: Change | D137: % Change
B138: 179.95 | C138: -3.06 | D138: -0.0167
B140: 150 | C140: -1.07 | D140: -0.0071
B142: 346.83 | C142: -5.02 | D142: -0.0143
B144: 137.36 | C144: -1.75 | D144: -0.0126
B146: 185.55 | C146: -2.67 | D146: -0.0142

Sheet 2018 Cash Flow
A2: Google Inc.
A3: Cash Flow
A4: All numbers in thousands
A5: Period Ending | B5: 43465 | C5: 43100 | D5: 42735 | E5: 42369
A6: Net Income | B6: 30736000 | C6: 12662000 | D6: 19478000 | E6: 16348000
A8: Operating Activities, Cash Flows Provided By or Used In
A9: Depreciation | B9: 9029000 | C9: 6899000 | D9: 6100000 | E9: 5024000
A10: Adjustments To Net Income | B10: 3298000 | C10: 8284000 | D10: 7158000 | E10: 5609000
A11: Changes In Accounts Receivables | B11: -2169000 | C11: -3768000 | D11: -2578000 | E11: -2094000
A12: Changes In Liabilities | B12: 1438000 | C12: 1121000 | D12: 333000 | E12: 246000
A13: Changes In Inventories | B13: - | C13: - | D13: - | E13: -
A14: Changes In Other Operating Activities | B14: 7890000 | C14: 3682000 | D14: 2420000 | E14: 1618000
A15: Total Cash Flow From Operating Activities | B15: 47971000 | C15: 37091000 | D15: 36036000 | E15: 26572000
A17: Investing Activities, Cash Flows Provided By or Used In
A18: Capital Expenditures | B18: -25139000 | C18: -13184000 | D18: -10212000 | E18: -9950000
A19: Investments | B19: -1972000 | C19: -19448000 | D19: -18229000 | E19: -13635000
A20: Other Cash flows from Investing Activities | B20: - | C20: 1419000 | D20: -1978000 | E20: 75000
A21: Total Cash Flows From Investing Activities | B21: -28504000 | C21: -31401000 | D21: -31165000 | E21: -23711000
A23: Financing Activities, Cash Flows Provided By or Used In
A24: Dividends Paid | B24: - | C24: - | D24: - | E24: -
A25: Sale Purchase of Stock | B25: - | C25: - | D25: - | E25: -
A26: Net Borrowings | B26: -61000 | C26: -86000 | D26: -1335000 | E26: -23000
A27: Other Cash Flows from Financing Activities | B27: -4043000 | C27: -3366000 | D27: -3304000 | E27: -2422000
A28: Total Cash Flows From Financing Activities | B28: -13179000 | C28: -8298000 | D28: -8332000 | E28: -4225000
A30: Effect Of Exchange Rate Changes | B30: -302000 | C30: 405000 | D30: -170000 | E30: -434000
A31: Change In Cash and Cash Equivalents | B31: 5986000 | C31: -2203000 | D31: -3631000 | E31: -1798000
A34: Reference
A35: https://finance.yahoo.com/quote/GOOGL/cash-flow?p=GOOGL
B131: Last Price | C131: Change | D131: % Change
B132: 178.55 | C132: -4.46 | D132: -0.0244
B134: 150.26 | C134: -0.81 | D134: -0.0054
B136: 344.88 | C136: -6.97 | D136: -0.0198
B138: 137.74 | C138: -1.37 | D138: -0.0098
B140: 185.86 | C140: -2.36 | D140: -0.0125

Sheet Google 2016 Income Statement 
A2: Google Inc.
A3: Income Statement
A4: All numbers in thousands
A5: Period Ending | B5: 42735
A6: Revenue
A7: Total Revenue | B7: 90272000
A8: Cost of Revenue | B8: 35138000
A9: Gross Profit | B9: 55134000
A11: Operating Expenses
A12: Research Development | B12: 13948000
A13: Selling General and Administrative | B13: 17470000
A14: Non Recurring | B14: -
A15: Others | B15: -
A16: Total Operating Expenses | B16: 66556000
A17: Operating Income or Loss | B17: 23716000
A19: Income from Continuing Operations
A20: Total Other Income/Expenses Net | B20: 434000
A21: Earnings Before Interest and Taxes | B21: 23716000
A22: Interest Expense | B22: -124000
A23: Income Before Tax | B23: 24150000
A24: Income Tax Expense | B24: 4672000
A25: Minority Interest | B25: -
A26: Net Income From Continuing Ops | B26: 19478000
A28: Non-recurring Events
A29: Discontinued Operations | B29: -
A30: Extraordinary Items | B30: -
A31: Effect Of Accounting Changes | B31: -
A32: Other Items | B32: -
A34: Net Income
A35: Net Income | B35: 19478000
A36: Preferred Stock And Other Adjustments | B36: -
A37: Net Income Applicable To Common Shares | B37: 19478000

Sheet Goofle 2017 Income Statement 
A2: Google Inc.
A3: Income Statement
A4: All numbers in thousands
A5: Period Ending | B5: 43100
A6: Revenue
A7: Total Revenue | B7: 110855000
A8: Cost of Revenue | B8: 45583000
A9: Gross Profit | B9: 65272000
A11: Operating Expenses
A12: Research Development | B12: 16625000
A13: Selling General and Administrative | B13: 19765000
A14: Non Recurring | B14: -
A15: Others | B15: -
A16: Total Operating Expenses | B16: 81973000
A17: Operating Income or Loss | B17: 28882000
A19: Income from Continuing Operations
A20: Total Other Income/Expenses Net | B20: -1689000
A21: Earnings Before Interest and Taxes | B21: 28882000
A22: Interest Expense | B22: -109000
A23: Income Before Tax | B23: 27193000
A24: Income Tax Expense | B24: 14531000
A25: Minority Interest | B25: -
A26: Net Income From Continuing Ops | B26: 12662000
A28: Non-recurring Events
A29: Discontinued Operations | B29: -
A30: Extraordinary Items | B30: -
A31: Effect Of Accounting Changes | B31: -
A32: Other Items | B32: -
A34: Net Income
A35: Net Income | B35: 12662000
A36: Preferred Stock And Other Adjustments | B36: -
A37: Net Income Applicable To Common Shares | B37: 12662000

Sheet Stock Prices
A2: Google Inc.
A3: Stock Prices
A4: 20th May 2019 to 29th May 2019
A6: Date | B6: Close Price | C6: Returns | G6: Date | H6: average Stock price
A7: 43605 | B7: 1144.66 | C7: 0 | G7: 42339 | H7: 778.01
A8: 43606 | B8: 1154.4399 | C8: =(B8-B7)/B7 -> 0.0085439403 | G8: 42705 | H8: 792.45
A9: 43607 | B9: 1155.85 | C9: =(B9-B8)/B8 -> 0.0012214018 | G9: 43070 | H9: 1053.4
A10: 43608 | B10: 1145.34 | C10: =(B10-B9)/B9 -> -0.0090928842 | G10: 43435 | H10: 1044.96
A11: 43609 | B11: 1138.61 | C11: =(B11-B10)/B10 -> -0.005875968
A12: 43613 | B12: 1139.5601 | C12: =(B12-B11)/B11 -> 0.00083441566
A13: 43614 | B13: 1119.9399 | C13: =(B13-B12)/B12 -> -0.017217274
A14: 2018
A16: Reference
A17: https://finance.yahoo.com/quote/GOOGL/history?period1=1558299600&period2=1559163600&interval=1d&filter=history&frequency=1d

Sheet Ratios 
C1: 2018 | D1: 2017 | E1: 2016 | F1: 2015
A2: Current Ratio | B2: Current Assets/ Current Liabilities | C2: 3.9190064 | D2: 5.1403052 | E2: 6.2907615 | F2: 4.6667012
A3: Debit/Equity Ratio | B3: Total Liabilities/Shareholder Equity | C3: 0.31055915 | D3: 0.29372074 | E3: 0.20470238 | F3: 0.22546144
A4: Free Cash Flow
A5: 1. Operating Cash Flow | B5: After tax profit- (Current Assets-Current Liabilities) + Depreciation + Armotization | C5: -70320000 | D5: -87463000 | E5: -69174000 | F5: -44456000
A6: 2. Free Cash Flow | B6: Operating cash flow-fixed asset puchases | C6: -45181000 | D6: -74279000 | E6: -58962000 | F6: -44506000
A7: Earnings per share | B7: (Net income-preferred Dividends)/Shares Outstanding | C7: 0.6822793 | D7: 0.3146073 | E7: 0.53648057 | F7: 0.4956643
A8: Price/Earnings Ratio | B8: Current share price/Earning per share | C8: 1531.572 | D8: 3348.301 | E8: 1477.127 | F8: 1569.631
A9: Return on Equity | B9: Net Income/Shareholder Equity | C9: 0.173 | D9: 0.08305 | E9: 0.1401 | F9: 0.1359
A10: Net Profit Margin | B10: Net Income/ Revenue | C10: 0.2246 | D10: 0.1142 | E10: 0.2158 | F10: 0.218
